BEGIN:VCALENDAR
VERSION:2.0
PRODID:-//Dansschool Saco Velt - ECPv6.15.20//NONSGML v1.0//EN
CALSCALE:GREGORIAN
METHOD:PUBLISH
X-WR-CALNAME:Dansschool Saco Velt
X-ORIGINAL-URL:https://www.sacovelt.nl
X-WR-CALDESC:Evenementen voor Dansschool Saco Velt
REFRESH-INTERVAL;VALUE=DURATION:PT1H
X-Robots-Tag:noindex
X-PUBLISHED-TTL:PT1H
BEGIN:VTIMEZONE
TZID:Europe/Amsterdam
BEGIN:DAYLIGHT
TZOFFSETFROM:+0100
TZOFFSETTO:+0200
TZNAME:CEST
DTSTART:20250330T010000
END:DAYLIGHT
BEGIN:STANDARD
TZOFFSETFROM:+0200
TZOFFSETTO:+0100
TZNAME:CET
DTSTART:20251026T010000
END:STANDARD
BEGIN:DAYLIGHT
TZOFFSETFROM:+0100
TZOFFSETTO:+0200
TZNAME:CEST
DTSTART:20260329T010000
END:DAYLIGHT
BEGIN:STANDARD
TZOFFSETFROM:+0200
TZOFFSETTO:+0100
TZNAME:CET
DTSTART:20261025T010000
END:STANDARD
BEGIN:DAYLIGHT
TZOFFSETFROM:+0100
TZOFFSETTO:+0200
TZNAME:CEST
DTSTART:20270328T010000
END:DAYLIGHT
BEGIN:STANDARD
TZOFFSETFROM:+0200
TZOFFSETTO:+0100
TZNAME:CET
DTSTART:20271031T010000
END:STANDARD
END:VTIMEZONE
BEGIN:VEVENT
DTSTART;TZID=Europe/Amsterdam:20260422T183000
DTEND;TZID=Europe/Amsterdam:20260422T220000
DTSTAMP:20260421T110831
CREATED:20251119T203933Z
LAST-MODIFIED:20260217T094755Z
UID:10000175-1776882600-1776895200@www.sacovelt.nl
SUMMARY:Afdansen - Volwassenen
DESCRIPTION:Meer info volgt z.s.m.
URL:https://www.sacovelt.nl/activiteit/afdansen-volwassenen-2/2026-04-22/
ATTACH;FMTTYPE=image/png:https://www.sacovelt.nl/wp-content/uploads/2025/11/3.png
END:VEVENT
BEGIN:VEVENT
DTSTART;TZID=Europe/Amsterdam:20260423T183000
DTEND;TZID=Europe/Amsterdam:20260423T220000
DTSTAMP:20260421T110831
CREATED:20251119T203933Z
LAST-MODIFIED:20260217T094755Z
UID:10000159-1776969000-1776981600@www.sacovelt.nl
SUMMARY:Afdansen - Volwassenen
DESCRIPTION:Meer info volgt z.s.m.
URL:https://www.sacovelt.nl/activiteit/afdansen-volwassenen-2/2026-04-23/
ATTACH;FMTTYPE=image/png:https://www.sacovelt.nl/wp-content/uploads/2025/11/3.png
END:VEVENT
BEGIN:VEVENT
DTSTART;TZID=Europe/Amsterdam:20260424T183000
DTEND;TZID=Europe/Amsterdam:20260424T220000
DTSTAMP:20260421T110831
CREATED:20251119T203933Z
LAST-MODIFIED:20260217T094755Z
UID:10000160-1777055400-1777068000@www.sacovelt.nl
SUMMARY:Afdansen - Volwassenen
DESCRIPTION:Meer info volgt z.s.m.
URL:https://www.sacovelt.nl/activiteit/afdansen-volwassenen-2/2026-04-24/
ATTACH;FMTTYPE=image/png:https://www.sacovelt.nl/wp-content/uploads/2025/11/3.png
END:VEVENT
END:VCALENDAR